Package: ModCon Version: 1.15.0 Command: /Library/Frameworks/R.framework/Resources/bin/R CMD build --keep-empty-dirs --no-resave-data ModCon StartedAt: 2025-02-17 16:58:03 -0500 (Mon, 17 Feb 2025) EndedAt: 2025-02-17 16:58:40 -0500 (Mon, 17 Feb 2025) EllapsedTime: 37.5 seconds RetCode: 0 Status: OK PackageFile: ModCon_1.15.0.tar.gz PackageFileSize: 1.912 MiB