Package: MinimumDistance Version: 1.51.0 Command: /Library/Frameworks/R.framework/Resources/bin/R CMD INSTALL MinimumDistance StartedAt: 2025-02-19 15:29:31 -0500 (Wed, 19 Feb 2025) EndedAt: 2025-02-19 15:29:32 -0500 (Wed, 19 Feb 2025) EllapsedTime: 1.0 seconds RetCode: 1 Status: ERROR