Package: MineICA Version: 1.47.0 Command: /Library/Frameworks/R.framework/Resources/bin/R CMD INSTALL MineICA StartedAt: 2025-02-18 15:43:34 -0500 (Tue, 18 Feb 2025) EndedAt: 2025-02-18 15:44:23 -0500 (Tue, 18 Feb 2025) EllapsedTime: 49.2 seconds RetCode: 0 Status: OK