Package: MineICA Version: 1.47.0 Command: /Library/Frameworks/R.framework/Resources/bin/R CMD build --keep-empty-dirs --no-resave-data MineICA StartedAt: 2025-02-18 16:57:08 -0500 (Tue, 18 Feb 2025) EndedAt: 2025-02-18 16:58:50 -0500 (Tue, 18 Feb 2025) EllapsedTime: 102.1 seconds RetCode: 0 Status: OK PackageFile: MineICA_1.47.0.tar.gz PackageFileSize: 1.434 MiB