Package: MicrobiotaProcess Version: 1.19.0 Command: E:\biocbuild\bbs-3.21-bioc\R\bin\R.exe CMD INSTALL MicrobiotaProcess StartedAt: 2025-02-17 16:06:59 -0500 (Mon, 17 Feb 2025) EndedAt: 2025-02-17 16:11:41 -0500 (Mon, 17 Feb 2025) EllapsedTime: 281.5 seconds RetCode: 0 Status: OK