Package: MicrobiotaProcess Version: 1.19.0 Command: rm -rf MicrobiotaProcess.buildbin-libdir && mkdir MicrobiotaProcess.buildbin-libdir && E:\biocbuild\bbs-3.21-bioc\R\bin\R.exe CMD INSTALL --build --library=MicrobiotaProcess.buildbin-libdir MicrobiotaProcess_1.19.0.tar.gz StartedAt: 2025-02-18 07:44:42 -0500 (Tue, 18 Feb 2025) EndedAt: 2025-02-18 07:54:17 -0500 (Tue, 18 Feb 2025) EllapsedTime: 574.6 seconds RetCode: 0 Status: OK PackageFile: MicrobiotaProcess_1.19.0.zip PackageFileSize: 4.386 MiB