Package: MicrobiotaProcess Version: 1.19.0 Command: /home/biocbuild/bbs-3.21-bioc/R/bin/R CMD INSTALL MicrobiotaProcess StartedAt: 2025-02-17 15:17:33 -0500 (Mon, 17 Feb 2025) EndedAt: 2025-02-17 15:18:33 -0500 (Mon, 17 Feb 2025) EllapsedTime: 60.4 seconds RetCode: 0 Status: OK