Package: MicrobiotaProcess Version: 1.19.0 Command: /home/biocbuild/bbs-3.21-bioc/R/bin/R CMD check --install=check:MicrobiotaProcess.install-out.txt --library=/home/biocbuild/bbs-3.21-bioc/R/site-library --timings MicrobiotaProcess_1.19.0.tar.gz StartedAt: 2025-02-17 23:52:49 -0500 (Mon, 17 Feb 2025) EndedAt: 2025-02-17 23:59:32 -0500 (Mon, 17 Feb 2025) EllapsedTime: 402.5 seconds RetCode: 0 Status: OK CheckDir: MicrobiotaProcess.Rcheck Warnings: 0