Package: MicrobiotaProcess Version: 1.19.0 Command: /home/biocbuild/bbs-3.21-bioc/R/bin/R CMD build --keep-empty-dirs --no-resave-data MicrobiotaProcess StartedAt: 2025-02-17 18:02:22 -0500 (Mon, 17 Feb 2025) EndedAt: 2025-02-17 18:04:56 -0500 (Mon, 17 Feb 2025) EllapsedTime: 153.2 seconds RetCode: 0 Status: OK PackageFile: MicrobiotaProcess_1.19.0.tar.gz PackageFileSize: 4.79 MiB