Package: MicrobiotaProcess Version: 1.19.0 Command: /Library/Frameworks/R.framework/Resources/bin/R CMD INSTALL MicrobiotaProcess StartedAt: 2025-02-17 15:33:32 -0500 (Mon, 17 Feb 2025) EndedAt: 2025-02-17 15:34:57 -0500 (Mon, 17 Feb 2025) EllapsedTime: 85.1 seconds RetCode: 0 Status: OK