Package: MicrobiotaProcess Version: 1.19.0 Command: /Library/Frameworks/R.framework/Resources/bin/R CMD build --keep-empty-dirs --no-resave-data MicrobiotaProcess StartedAt: 2025-02-17 16:55:12 -0500 (Mon, 17 Feb 2025) EndedAt: 2025-02-17 16:56:14 -0500 (Mon, 17 Feb 2025) EllapsedTime: 61.8 seconds RetCode: 0 Status: OK PackageFile: MicrobiotaProcess_1.19.0.tar.gz PackageFileSize: 4.983 MiB