Package: MicrobiotaProcess Version: 1.19.0 Command: rm -rf MicrobiotaProcess.buildbin-libdir && mkdir MicrobiotaProcess.buildbin-libdir && /Users/biocbuild/BBS/utils/build-universal.sh MicrobiotaProcess_1.19.0.tar.gz /Library/Frameworks/R.framework/Resources/bin/R MicrobiotaProcess.buildbin-libdir StartedAt: 2025-02-17 22:24:12 -0500 (Mon, 17 Feb 2025) EndedAt: 2025-02-17 22:24:37 -0500 (Mon, 17 Feb 2025) EllapsedTime: 24.5 seconds RetCode: 0 Status: OK PackageFile: MicrobiotaProcess_1.19.0.tgz PackageFileSize: 5.745 MiB