Package: MicrobiomeProfiler Version: 1.13.0 Command: E:\biocbuild\bbs-3.21-bioc\R\bin\R.exe CMD INSTALL MicrobiomeProfiler StartedAt: 2025-02-20 15:59:09 -0500 (Thu, 20 Feb 2025) EndedAt: 2025-02-20 16:00:12 -0500 (Thu, 20 Feb 2025) EllapsedTime: 63.4 seconds RetCode: 0 Status: OK