Package: MicrobiomeProfiler Version: 1.13.0 Command: rm -rf MicrobiomeProfiler.buildbin-libdir && mkdir MicrobiomeProfiler.buildbin-libdir && E:\biocbuild\bbs-3.21-bioc\R\bin\R.exe CMD INSTALL --build --library=MicrobiomeProfiler.buildbin-libdir MicrobiomeProfiler_1.13.0.tar.gz StartedAt: 2025-02-21 08:32:08 -0500 (Fri, 21 Feb 2025) EndedAt: 2025-02-21 08:34:24 -0500 (Fri, 21 Feb 2025) EllapsedTime: 135.8 seconds RetCode: 0 Status: OK PackageFile: MicrobiomeProfiler_1.13.0.zip PackageFileSize: 952.5 KiB