Package: MicrobiomeProfiler Version: 1.13.0 Command: /home/biocbuild/bbs-3.21-bioc/R/bin/R CMD INSTALL MicrobiomeProfiler StartedAt: 2025-02-20 16:01:13 -0500 (Thu, 20 Feb 2025) EndedAt: 2025-02-20 16:01:36 -0500 (Thu, 20 Feb 2025) EllapsedTime: 22.6 seconds RetCode: 0 Status: OK