Package: MicrobiomeProfiler Version: 1.13.0 Command: /Library/Frameworks/R.framework/Resources/bin/R CMD check --install=check:MicrobiomeProfiler.install-out.txt --library=/Library/Frameworks/R.framework/Resources/library --no-vignettes --timings MicrobiomeProfiler_1.13.0.tar.gz StartedAt: 2025-02-20 21:36:19 -0500 (Thu, 20 Feb 2025) EndedAt: 2025-02-20 21:39:18 -0500 (Thu, 20 Feb 2025) EllapsedTime: 179.1 seconds RetCode: 0 Status: OK CheckDir: MicrobiomeProfiler.Rcheck Warnings: 0