Package: MicrobiomeProfiler Version: 1.13.0 Command: /Library/Frameworks/R.framework/Resources/bin/R CMD build --keep-empty-dirs --no-resave-data MicrobiomeProfiler StartedAt: 2025-02-20 16:56:07 -0500 (Thu, 20 Feb 2025) EndedAt: 2025-02-20 16:56:21 -0500 (Thu, 20 Feb 2025) EllapsedTime: 14.1 seconds RetCode: 0 Status: OK PackageFile: MicrobiomeProfiler_1.13.0.tar.gz PackageFileSize: 1.051 MiB