Package: MiRaGE Version: 1.49.0 Command: E:\biocbuild\bbs-3.21-bioc\R\bin\R.exe CMD check --no-multiarch --install=check:MiRaGE.install-out.txt --library=E:\biocbuild\bbs-3.21-bioc\R\library --no-vignettes --timings MiRaGE_1.49.0.tar.gz StartedAt: 2025-02-21 03:16:52 -0500 (Fri, 21 Feb 2025) EndedAt: 2025-02-21 03:18:47 -0500 (Fri, 21 Feb 2025) EllapsedTime: 114.3 seconds RetCode: 0 Status: WARNINGS CheckDir: MiRaGE.Rcheck Warnings: 1