Package: MiRaGE Version: 1.49.0 Command: rm -rf MiRaGE.buildbin-libdir && mkdir MiRaGE.buildbin-libdir && E:\biocbuild\bbs-3.21-bioc\R\bin\R.exe CMD INSTALL --build --library=MiRaGE.buildbin-libdir MiRaGE_1.49.0.tar.gz StartedAt: 2025-02-21 08:32:56 -0500 (Fri, 21 Feb 2025) EndedAt: 2025-02-21 08:33:14 -0500 (Fri, 21 Feb 2025) EllapsedTime: 17.5 seconds RetCode: 0 Status: OK PackageFile: MiRaGE_1.49.0.zip PackageFileSize: 1.207 MiB