Package: MiRaGE Version: 1.49.0 Command: /Library/Frameworks/R.framework/Resources/bin/R CMD INSTALL MiRaGE StartedAt: 2025-02-20 15:08:03 -0500 (Thu, 20 Feb 2025) EndedAt: 2025-02-20 15:08:08 -0500 (Thu, 20 Feb 2025) EllapsedTime: 5.5 seconds RetCode: 0 Status: OK