Package: MiPP Version: 1.79.0 Command: /Library/Frameworks/R.framework/Resources/bin/R CMD build --keep-empty-dirs --no-resave-data MiPP StartedAt: 2025-02-19 17:21:13 -0500 (Wed, 19 Feb 2025) EndedAt: 2025-02-19 17:21:25 -0500 (Wed, 19 Feb 2025) EllapsedTime: 12.6 seconds RetCode: 0 Status: OK PackageFile: MiPP_1.79.0.tar.gz PackageFileSize: 409.5 KiB