Package: MiPP Version: 1.79.0 Command: /Library/Frameworks/R.framework/Resources/bin/R CMD build --keep-empty-dirs --no-resave-data MiPP StartedAt: 2025-02-19 16:58:00 -0500 (Wed, 19 Feb 2025) EndedAt: 2025-02-19 16:58:04 -0500 (Wed, 19 Feb 2025) EllapsedTime: 4.0 seconds RetCode: 0 Status: OK PackageFile: MiPP_1.79.0.tar.gz PackageFileSize: 410.1 KiB