Package: MiChip Version: 1.61.0 Command: E:\biocbuild\bbs-3.21-bioc\R\bin\R.exe CMD INSTALL MiChip StartedAt: 2025-02-20 15:23:02 -0500 (Thu, 20 Feb 2025) EndedAt: 2025-02-20 15:23:15 -0500 (Thu, 20 Feb 2025) EllapsedTime: 12.5 seconds RetCode: 0 Status: OK