Package: MiChip Version: 1.61.0 Command: /home/biocbuild/bbs-3.21-bioc/R/bin/R CMD check --install=check:MiChip.install-out.txt --library=/home/biocbuild/bbs-3.21-bioc/R/site-library --timings MiChip_1.61.0.tar.gz StartedAt: 2025-02-20 23:35:54 -0500 (Thu, 20 Feb 2025) EndedAt: 2025-02-20 23:36:23 -0500 (Thu, 20 Feb 2025) EllapsedTime: 29.0 seconds RetCode: 0 Status: OK CheckDir: MiChip.Rcheck Warnings: 0