Package: MiChip Version: 1.61.0 Command: /home/biocbuild/bbs-3.21-bioc/R/bin/R CMD build --keep-empty-dirs --no-resave-data MiChip StartedAt: 2025-02-20 18:12:09 -0500 (Thu, 20 Feb 2025) EndedAt: 2025-02-20 18:12:19 -0500 (Thu, 20 Feb 2025) EllapsedTime: 10.0 seconds RetCode: 0 Status: OK PackageFile: MiChip_1.61.0.tar.gz PackageFileSize: 652.1 KiB