Package: MiChip Version: 1.61.0 Command: rm -rf MiChip.buildbin-libdir && mkdir MiChip.buildbin-libdir && /Users/biocbuild/BBS/utils/build-universal.sh MiChip_1.61.0.tar.gz /Library/Frameworks/R.framework/Resources/bin/R MiChip.buildbin-libdir StartedAt: 2025-02-21 00:39:51 -0500 (Fri, 21 Feb 2025) EndedAt: 2025-02-21 00:39:57 -0500 (Fri, 21 Feb 2025) EllapsedTime: 6.9 seconds RetCode: 0 Status: OK PackageFile: MiChip_1.61.0.tgz PackageFileSize: 718.2 KiB