Package: MiChip Version: 1.61.0 Command: /Library/Frameworks/R.framework/Resources/bin/R CMD INSTALL MiChip StartedAt: 2025-02-20 15:01:23 -0500 (Thu, 20 Feb 2025) EndedAt: 2025-02-20 15:01:24 -0500 (Thu, 20 Feb 2025) EllapsedTime: 1.2 seconds RetCode: 0 Status: OK