Package: Mfuzz Version: 2.67.0 Command: /home/biocbuild/bbs-3.21-bioc/R/bin/R CMD INSTALL Mfuzz StartedAt: 2025-02-21 15:56:02 -0500 (Fri, 21 Feb 2025) EndedAt: 2025-02-21 15:56:07 -0500 (Fri, 21 Feb 2025) EllapsedTime: 4.8 seconds RetCode: 0 Status: OK