Package: Mfuzz Version: 2.67.0 Command: /home/biocbuild/bbs-3.21-bioc/R/bin/R CMD build --keep-empty-dirs --no-resave-data Mfuzz StartedAt: 2025-02-21 18:32:48 -0500 (Fri, 21 Feb 2025) EndedAt: 2025-02-21 18:32:59 -0500 (Fri, 21 Feb 2025) EllapsedTime: 11.0 seconds RetCode: 0 Status: OK PackageFile: Mfuzz_2.67.0.tar.gz PackageFileSize: 819.4 KiB