Package: Mfuzz Version: 2.67.0 Command: /Library/Frameworks/R.framework/Resources/bin/R CMD INSTALL Mfuzz StartedAt: 2025-02-20 15:03:36 -0500 (Thu, 20 Feb 2025) EndedAt: 2025-02-20 15:03:40 -0500 (Thu, 20 Feb 2025) EllapsedTime: 4.4 seconds RetCode: 0 Status: OK