Package: Mfuzz Version: 2.67.0 Command: /Library/Frameworks/R.framework/Resources/bin/R CMD build --keep-empty-dirs --no-resave-data Mfuzz StartedAt: 2025-02-21 16:54:33 -0500 (Fri, 21 Feb 2025) EndedAt: 2025-02-21 16:54:40 -0500 (Fri, 21 Feb 2025) EllapsedTime: 7.1 seconds RetCode: 0 Status: OK PackageFile: Mfuzz_2.67.0.tar.gz PackageFileSize: 819.6 KiB