Package: MethylSeekR Version: 1.47.0 Command: E:\biocbuild\bbs-3.21-bioc\R\bin\R.exe CMD INSTALL MethylSeekR StartedAt: 2025-02-17 16:28:42 -0500 (Mon, 17 Feb 2025) EndedAt: 2025-02-17 16:29:27 -0500 (Mon, 17 Feb 2025) EllapsedTime: 45.3 seconds RetCode: 0 Status: OK