Package: MethylSeekR Version: 1.47.0 Command: E:\biocbuild\bbs-3.21-bioc\R\bin\R.exe CMD check --no-multiarch --install=check:MethylSeekR.install-out.txt --library=E:\biocbuild\bbs-3.21-bioc\R\library --no-vignettes --timings MethylSeekR_1.47.0.tar.gz StartedAt: 2025-02-18 02:40:34 -0500 (Tue, 18 Feb 2025) EndedAt: 2025-02-18 02:47:33 -0500 (Tue, 18 Feb 2025) EllapsedTime: 419.7 seconds RetCode: 0 Status: OK CheckDir: MethylSeekR.Rcheck Warnings: 0