Package: MethylSeekR Version: 1.47.0 Command: /home/biocbuild/bbs-3.21-bioc/R/bin/R CMD INSTALL MethylSeekR StartedAt: 2025-02-17 15:27:25 -0500 (Mon, 17 Feb 2025) EndedAt: 2025-02-17 15:27:55 -0500 (Mon, 17 Feb 2025) EllapsedTime: 30.0 seconds RetCode: 0 Status: OK