Package: MethylSeekR Version: 1.47.0 Command: /home/biocbuild/bbs-3.21-bioc/R/bin/R CMD check --install=check:MethylSeekR.install-out.txt --library=/home/biocbuild/bbs-3.21-bioc/R/site-library --timings MethylSeekR_1.47.0.tar.gz StartedAt: 2025-02-17 23:47:44 -0500 (Mon, 17 Feb 2025) EndedAt: 2025-02-17 23:55:07 -0500 (Mon, 17 Feb 2025) EllapsedTime: 443.5 seconds RetCode: 0 Status: OK CheckDir: MethylSeekR.Rcheck Warnings: 0