Package: MethylSeekR Version: 1.47.0 Command: /home/biocbuild/bbs-3.21-bioc/R/bin/R CMD build --keep-empty-dirs --no-resave-data MethylSeekR StartedAt: 2025-02-17 18:00:26 -0500 (Mon, 17 Feb 2025) EndedAt: 2025-02-17 18:02:06 -0500 (Mon, 17 Feb 2025) EllapsedTime: 100.1 seconds RetCode: 0 Status: OK PackageFile: MethylSeekR_1.47.0.tar.gz PackageFileSize: 1.594 MiB