Package: MethylSeekR Version: 1.47.0 Command: /Library/Frameworks/R.framework/Resources/bin/R CMD check --install=check:MethylSeekR.install-out.txt --library=/Library/Frameworks/R.framework/Resources/library --no-vignettes --timings MethylSeekR_1.47.0.tar.gz StartedAt: 2025-02-17 21:29:00 -0500 (Mon, 17 Feb 2025) EndedAt: 2025-02-17 21:35:37 -0500 (Mon, 17 Feb 2025) EllapsedTime: 396.9 seconds RetCode: 0 Status: OK CheckDir: MethylSeekR.Rcheck Warnings: 0