Package: MethylSeekR Version: 1.47.0 Command: rm -rf MethylSeekR.buildbin-libdir && mkdir MethylSeekR.buildbin-libdir && /Users/biocbuild/BBS/utils/build-universal.sh MethylSeekR_1.47.0.tar.gz /Library/Frameworks/R.framework/Resources/bin/R MethylSeekR.buildbin-libdir StartedAt: 2025-02-18 00:33:22 -0500 (Tue, 18 Feb 2025) EndedAt: 2025-02-18 00:34:07 -0500 (Tue, 18 Feb 2025) EllapsedTime: 44.9 seconds RetCode: 0 Status: OK PackageFile: MethylSeekR_1.47.0.tgz PackageFileSize: 1.656 MiB