Package: MethylMix Version: 2.37.0 Command: /Library/Frameworks/R.framework/Resources/bin/R CMD INSTALL MethylMix StartedAt: 2025-02-17 15:29:02 -0500 (Mon, 17 Feb 2025) EndedAt: 2025-02-17 15:29:14 -0500 (Mon, 17 Feb 2025) EllapsedTime: 12.5 seconds RetCode: 0 Status: OK