Package: MethylMix Version: 2.37.0 Command: /Library/Frameworks/R.framework/Resources/bin/R CMD build --keep-empty-dirs --no-resave-data MethylMix StartedAt: 2025-02-17 16:52:56 -0500 (Mon, 17 Feb 2025) EndedAt: 2025-02-17 16:53:10 -0500 (Mon, 17 Feb 2025) EllapsedTime: 13.2 seconds RetCode: 0 Status: OK PackageFile: MethylMix_2.37.0.tar.gz PackageFileSize: 2.576 MiB