Package: MethylMix Version: 2.37.0 Command: rm -rf MethylMix.buildbin-libdir && mkdir MethylMix.buildbin-libdir && /Users/biocbuild/BBS/utils/build-universal.sh MethylMix_2.37.0.tar.gz /Library/Frameworks/R.framework/Resources/bin/R MethylMix.buildbin-libdir StartedAt: 2025-02-17 22:23:49 -0500 (Mon, 17 Feb 2025) EndedAt: 2025-02-17 22:23:54 -0500 (Mon, 17 Feb 2025) EllapsedTime: 5.1 seconds RetCode: 0 Status: OK PackageFile: MethylMix_2.37.0.tgz PackageFileSize: 2.921 MiB