Package: MethylAid Version: 1.41.0 Command: E:\biocbuild\bbs-3.21-bioc\R\bin\R.exe CMD INSTALL MethylAid StartedAt: 2025-02-17 16:53:02 -0500 (Mon, 17 Feb 2025) EndedAt: 2025-02-17 16:54:00 -0500 (Mon, 17 Feb 2025) EllapsedTime: 57.4 seconds RetCode: 0 Status: OK