Package: MethylAid Version: 1.41.0 Command: chmod a+r MethylAid -R && E:\biocbuild\bbs-3.21-bioc\R\bin\R.exe CMD build --keep-empty-dirs --no-resave-data MethylAid StartedAt: 2025-02-17 19:42:49 -0500 (Mon, 17 Feb 2025) EndedAt: 2025-02-17 19:50:41 -0500 (Mon, 17 Feb 2025) EllapsedTime: 472.6 seconds RetCode: 0 Status: OK PackageFile: MethylAid_1.41.0.tar.gz PackageFileSize: 3.015 MiB