Package: MethylAid Version: 1.41.0 Command: /home/biocbuild/bbs-3.21-bioc/R/bin/R CMD INSTALL MethylAid StartedAt: 2025-02-19 15:41:29 -0500 (Wed, 19 Feb 2025) EndedAt: 2025-02-19 15:42:15 -0500 (Wed, 19 Feb 2025) EllapsedTime: 46.1 seconds RetCode: 0 Status: OK