Package: MethylAid Version: 1.41.0 Command: /home/biocbuild/bbs-3.21-bioc/R/bin/R CMD build --keep-empty-dirs --no-resave-data MethylAid StartedAt: 2025-02-19 18:01:32 -0500 (Wed, 19 Feb 2025) EndedAt: 2025-02-19 18:04:02 -0500 (Wed, 19 Feb 2025) EllapsedTime: 150.1 seconds RetCode: 0 Status: OK PackageFile: MethylAid_1.41.0.tar.gz PackageFileSize: 3.013 MiB