Package: MethylAid Version: 1.41.0 Command: /Library/Frameworks/R.framework/Resources/bin/R CMD build --keep-empty-dirs --no-resave-data MethylAid StartedAt: 2025-02-19 16:53:53 -0500 (Wed, 19 Feb 2025) EndedAt: 2025-02-19 16:55:20 -0500 (Wed, 19 Feb 2025) EllapsedTime: 86.9 seconds RetCode: 0 Status: OK PackageFile: MethylAid_1.41.0.tar.gz PackageFileSize: 3.013 MiB