Package: MethTargetedNGS Version: 1.39.0 Command: E:\biocbuild\bbs-3.21-bioc\R\bin\R.exe CMD check --no-multiarch --install=check:MethTargetedNGS.install-out.txt --library=E:\biocbuild\bbs-3.21-bioc\R\library --no-vignettes --timings MethTargetedNGS_1.39.0.tar.gz StartedAt: 2025-02-21 03:05:25 -0500 (Fri, 21 Feb 2025) EndedAt: 2025-02-21 03:07:18 -0500 (Fri, 21 Feb 2025) EllapsedTime: 113.4 seconds RetCode: 0 Status: OK CheckDir: MethTargetedNGS.Rcheck Warnings: 0