Package: MethTargetedNGS Version: 1.39.0 Command: /home/biocbuild/R/R/bin/R CMD build --keep-empty-dirs --no-resave-data MethTargetedNGS StartedAt: 2025-01-29 00:11:39 -0000 (Wed, 29 Jan 2025) EndedAt: 2025-01-29 00:12:07 -0000 (Wed, 29 Jan 2025) EllapsedTime: 28.0 seconds RetCode: 0 Status: OK PackageFile: MethTargetedNGS_1.39.0.tar.gz PackageFileSize: 274.4 KiB