Package: MethTargetedNGS Version: 1.39.0 Command: /Library/Frameworks/R.framework/Resources/bin/R CMD check --install=check:MethTargetedNGS.install-out.txt --library=/Library/Frameworks/R.framework/Resources/library --no-vignettes --timings MethTargetedNGS_1.39.0.tar.gz StartedAt: 2025-02-20 20:06:09 -0500 (Thu, 20 Feb 2025) EndedAt: 2025-02-20 20:06:44 -0500 (Thu, 20 Feb 2025) EllapsedTime: 35.5 seconds RetCode: 0 Status: OK CheckDir: MethTargetedNGS.Rcheck Warnings: 0