Package: MethTargetedNGS Version: 1.39.0 Command: rm -rf MethTargetedNGS.buildbin-libdir && mkdir MethTargetedNGS.buildbin-libdir && /Users/biocbuild/BBS/utils/build-universal.sh MethTargetedNGS_1.39.0.tar.gz /Library/Frameworks/R.framework/Resources/bin/R MethTargetedNGS.buildbin-libdir StartedAt: 2025-02-20 22:25:08 -0500 (Thu, 20 Feb 2025) EndedAt: 2025-02-20 22:25:14 -0500 (Thu, 20 Feb 2025) EllapsedTime: 6.1 seconds RetCode: 0 Status: OK PackageFile: MethTargetedNGS_1.39.0.tgz PackageFileSize: 323.8 KiB